BEGIN:VCALENDAR
VERSION:2.0
PRODID:-//Find My Friend Suchhunde - ECPv6.6.1//NONSGML v1.0//EN
CALSCALE:GREGORIAN
METHOD:PUBLISH
X-ORIGINAL-URL:https://at.findmyfriend.at
X-WR-CALDESC:Veranstaltungen für Find My Friend Suchhunde
REFRESH-INTERVAL;VALUE=DURATION:PT1H
X-Robots-Tag:noindex
X-PUBLISHED-TTL:PT1H
BEGIN:VTIMEZONE
TZID:Europe/Vienna
BEGIN:DAYLIGHT
TZOFFSETFROM:+0100
TZOFFSETTO:+0200
TZNAME:CEST
DTSTART:20240331T010000
END:DAYLIGHT
BEGIN:STANDARD
TZOFFSETFROM:+0200
TZOFFSETTO:+0100
TZNAME:CET
DTSTART:20241027T010000
END:STANDARD
END:VTIMEZONE
BEGIN:VEVENT
DTSTART;TZID=Europe/Vienna:20240913T140000
DTEND;TZID=Europe/Vienna:20240913T170000
DTSTAMP:20260424T045321
CREATED:20240809T175521Z
LAST-MODIFIED:20240814T091618Z
UID:2012-1726236000-1726246800@at.findmyfriend.at
SUMMARY:Workshop Kreuzungsarbeit
DESCRIPTION:Du verfügst bereits über ein wenig Trailerfahrung mit deinem Hund und möchtest gerne den nächsten Schritt zu mehr Verständnis in der Zusammenarbeit zwischen euch machen? Irgendwie klappt das mit dem Erkennen in den Richtungsentscheidungen und der Körpersprache deines Hundes noch nicht so gut wie du dir das wünscht?\nDann ist das FmF Kreuzungsseminar definitiv etwas für euch!\nIn einem Seminar erarbeiten wir gemeinsam Fortschritte in der Teamarbeit und dem „Lesen“ deines Hundes! \nPreis: € 65\,- für Mitglieder\, € 75\,- für Nicht-Mitglieder \nAnmeldungen hier mit dem Anmeldeformular.
URL:https://at.findmyfriend.at/event/workshop-kreuzungsarbeit/
LOCATION:Klagenfurt am Wörthersee\, Klagenfurt am Wörthersee\, 9020\, Austria
ATTACH;FMTTYPE=image/png:https://at.findmyfriend.at/wp-content/uploads/2024/08/Kreuzungsarbeit-e1723233273270.png
END:VEVENT
END:VCALENDAR