BEGIN:VCALENDAR
VERSION:2.0
PRODID:-//Find My Friend Suchhunde - ECPv6.6.1//NONSGML v1.0//EN
CALSCALE:GREGORIAN
METHOD:PUBLISH
X-ORIGINAL-URL:https://at.findmyfriend.at
X-WR-CALDESC:Veranstaltungen für Find My Friend Suchhunde
REFRESH-INTERVAL;VALUE=DURATION:PT1H
X-Robots-Tag:noindex
X-PUBLISHED-TTL:PT1H
BEGIN:VTIMEZONE
TZID:Europe/Vienna
BEGIN:DAYLIGHT
TZOFFSETFROM:+0100
TZOFFSETTO:+0200
TZNAME:CEST
DTSTART:20240331T010000
END:DAYLIGHT
BEGIN:STANDARD
TZOFFSETFROM:+0200
TZOFFSETTO:+0100
TZNAME:CET
DTSTART:20241027T010000
END:STANDARD
END:VTIMEZONE
BEGIN:VEVENT
DTSTART;VALUE=DATE:20241117
DTEND;VALUE=DATE:20241118
DTSTAMP:20260424T010226
CREATED:20240811T121252Z
LAST-MODIFIED:20240813T064333Z
UID:2057-1731801600-1731887999@at.findmyfriend.at
SUMMARY:Natur- und Tierschutztage
DESCRIPTION:Natur- und Tierschutztage im Lakeside Park:  ganzer Tag „Messe“ im Foyer Lakeside Park – Verschiedene Aussteller zu den Themenbereichen Haustiere\, Wildtiere\, Nutztiere und Umweltschutz.
URL:https://at.findmyfriend.at/event/natur-und-tierschutztage-2/
ATTACH;FMTTYPE=image/jpeg:https://at.findmyfriend.at/wp-content/uploads/2024/08/naturschutztag-e1723528614178.jpg
END:VEVENT
END:VCALENDAR