BEGIN:VCALENDAR
VERSION:2.0
PRODID:-//Find My Friend Suchhunde - ECPv6.6.1//NONSGML v1.0//EN
CALSCALE:GREGORIAN
METHOD:PUBLISH
X-WR-CALNAME:Find My Friend Suchhunde
X-ORIGINAL-URL:https://at.findmyfriend.at
X-WR-CALDESC:Veranstaltungen für Find My Friend Suchhunde
REFRESH-INTERVAL;VALUE=DURATION:PT1H
X-Robots-Tag:noindex
X-PUBLISHED-TTL:PT1H
BEGIN:VTIMEZONE
TZID:Europe/Vienna
BEGIN:DAYLIGHT
TZOFFSETFROM:+0100
TZOFFSETTO:+0200
TZNAME:CEST
DTSTART:20250330T010000
END:DAYLIGHT
BEGIN:STANDARD
TZOFFSETFROM:+0200
TZOFFSETTO:+0100
TZNAME:CET
DTSTART:20251026T010000
END:STANDARD
END:VTIMEZONE
BEGIN:VEVENT
DTSTART;TZID=Europe/Vienna:20250201T090000
DTEND;TZID=Europe/Vienna:20250201T170000
DTSTAMP:20260423T193805
CREATED:20240809T182324Z
LAST-MODIFIED:20250129T080226Z
UID:2034-1738400400-1738429200@at.findmyfriend.at
SUMMARY:Spezialtrailtag Indoor
DESCRIPTION:INDOOR TRAIL EVENT \nWir dürfen euch herzlich zu unserem FMF-Indoor Trailevent einladen\, der Ort ist eine Überraschung und wird zeitnah bekannt gegeben! \nVormittag ca. 9.00–12.00 UhrNachmittag ca. 14.00–17.00 Uhr \nBegrenzte Platzanzahl\, first come first serve \nPreis: € 65\,-/Trail für Mitglieder; € 75\,–/Trail für Nichtmitglieder \nTrainer: Lisi\, Martina \nAnmeldungen bitte per E-Mail an info@findmyfriend.at \nLeicht fortgeschrittene Trailerfahrung erforderlich (im Zweifelsfall bitte mit dem Trainer absprechen)
URL:https://at.findmyfriend.at/event/spezialtrailtag-indoor/
ATTACH;FMTTYPE=image/jpeg:https://at.findmyfriend.at/wp-content/uploads/2024/08/Indoor.jpg
END:VEVENT
END:VCALENDAR