BEGIN:VCALENDAR
VERSION:2.0
PRODID:-//Find My Friend Suchhunde - ECPv6.6.1//NONSGML v1.0//EN
CALSCALE:GREGORIAN
METHOD:PUBLISH
X-WR-CALNAME:Find My Friend Suchhunde
X-ORIGINAL-URL:https://at.findmyfriend.at
X-WR-CALDESC:Veranstaltungen für Find My Friend Suchhunde
REFRESH-INTERVAL;VALUE=DURATION:PT1H
X-Robots-Tag:noindex
X-PUBLISHED-TTL:PT1H
BEGIN:VTIMEZONE
TZID:Europe/Vienna
BEGIN:DAYLIGHT
TZOFFSETFROM:+0100
TZOFFSETTO:+0200
TZNAME:CEST
DTSTART:20240331T010000
END:DAYLIGHT
BEGIN:STANDARD
TZOFFSETFROM:+0200
TZOFFSETTO:+0100
TZNAME:CET
DTSTART:20241027T010000
END:STANDARD
BEGIN:DAYLIGHT
TZOFFSETFROM:+0100
TZOFFSETTO:+0200
TZNAME:CEST
DTSTART:20250330T010000
END:DAYLIGHT
BEGIN:STANDARD
TZOFFSETFROM:+0200
TZOFFSETTO:+0100
TZNAME:CET
DTSTART:20251026T010000
END:STANDARD
END:VTIMEZONE
BEGIN:VEVENT
DTSTART;TZID=Europe/Vienna:20250504T130000
DTEND;TZID=Europe/Vienna:20250504T170000
DTSTAMP:20260420T163544
CREATED:20240809T183001Z
LAST-MODIFIED:20240814T095503Z
UID:2040-1746363600-1746378000@at.findmyfriend.at
SUMMARY:Wings for Life World Run
DESCRIPTION:Wir sind wieder mit dabei für einen guten Zweck! \n 
URL:https://at.findmyfriend.at/event/wings-for-life-world-run/
ATTACH;FMTTYPE=image/jpeg:https://at.findmyfriend.at/wp-content/uploads/2024/08/wingsforlife-Kopie-e1723235387830.jpg
END:VEVENT
BEGIN:VEVENT
DTSTART;TZID=Europe/Vienna:20250315T100000
DTEND;TZID=Europe/Vienna:20250315T140000
DTSTAMP:20260420T163544
CREATED:20240809T175713Z
LAST-MODIFIED:20250218T111256Z
UID:2014-1742032800-1742047200@at.findmyfriend.at
SUMMARY:Einsteigerworkshop Graz
DESCRIPTION:Du möchtest deinen Hund artgerecht auslasten\, zum Suchhund ausbilden oder einfach nur Spass miteinander haben? Unser Einsteigerworkshop ist der ideale Start dafür! \nInformationsfolder zum Download\nAnmeldeformular zum Download
URL:https://at.findmyfriend.at/event/einsteigerworkshop/
ATTACH;FMTTYPE=image/jpeg:https://at.findmyfriend.at/wp-content/uploads/2024/08/DSC4704-1-e1723480057129.jpg
END:VEVENT
BEGIN:VEVENT
DTSTART;TZID=Europe/Vienna:20250301T080000
DTEND;TZID=Europe/Vienna:20250301T170000
DTSTAMP:20260420T163544
CREATED:20240809T181548Z
LAST-MODIFIED:20250129T123518Z
UID:2026-1740816000-1740848400@at.findmyfriend.at
SUMMARY:Prüfungstag
DESCRIPTION:Lust auf Prüfungen? Hast du Lust deine Fortschritte zu überprüfen? Bei uns kannst du dich und deinen Hund nach einem fundierten Prüfungssystem bis zur Einsatzfähigkeit ausbilden. \nPrüfungsordnung \nPrüfungstabelle \nAnmeldeformular
URL:https://at.findmyfriend.at/event/pruefungstag/
LOCATION:Klagenfurt am Wörthersee\, Klagenfurt am Wörthersee\, 9020\, Austria
ATTACH;FMTTYPE=image/jpeg:https://at.findmyfriend.at/wp-content/uploads/2024/08/Pruefungen-e1723234067988.jpg
END:VEVENT
BEGIN:VEVENT
DTSTART;TZID=Europe/Vienna:20250210T000000
DTEND;TZID=Europe/Vienna:20250210T000000
DTSTAMP:20260420T163544
CREATED:20241211T192209Z
LAST-MODIFIED:20250121T093212Z
UID:2623-1739145600-1739145600@at.findmyfriend.at
SUMMARY:Sprich mit Michael Grewe - Tag 3
DESCRIPTION:2-Tages-Seminar – inkl. am 3. Tag „Sprich mit Michael Grewe“ \nTag 3 (Montag\, 10.02.2025\, Uhrzeit nach Absprache)  \nPreis: 90 € pro Gespräch\nDauer: 60–90 Minuten\n \nDu hast ein spezielles Thema oder Problem im Zusammenleben mit deinem Hund? Bei uns hast du exklusiv die Möglichkeit ein Einzelgespräch mit Michael Grewe zu führen und dir Tipps und Hilfe von einem der führenden Kynologen und Hundetrainern zu holen. Eine weiterführende\, langfristige Unterstützung mittels Zoom ist möglich. \nAchtung: Begrenzte Platzanzahl! Bei Interesse schick uns bitte eine E-Mail mit deinem Thema oder Problem.\n \n 
URL:https://at.findmyfriend.at/event/sprich-mit-michael-grewe-tag-3/
LOCATION:Klagenfurt am Wörthersee\, Klagenfurt am Wörthersee\, 9020\, Austria
ATTACH;FMTTYPE=image/jpeg:https://at.findmyfriend.at/wp-content/uploads/2024/12/referent_michael-grewe_portrait.jpg
END:VEVENT
BEGIN:VEVENT
DTSTART;TZID=Europe/Vienna:20250209T090000
DTEND;TZID=Europe/Vienna:20250209T160000
DTSTAMP:20260420T163544
CREATED:20241211T191750Z
LAST-MODIFIED:20241211T200446Z
UID:2619-1739091600-1739116800@at.findmyfriend.at
SUMMARY:Seminar mit Michael Grewe - Tag 2
DESCRIPTION:2-Tages-Seminar – inkl. am 3. Tag „Sprich mit Michael Grewe“ \nTag 2 (Sonntag\, 09.02.2025\, 9–16 Uhr) \nSinnvoll belohnen\, kritisch bestrafen \nPreis: 160 € (Kombiangebot Tag 1 und 2 – 300 €) \nAnmeldung erforderlich! Bitte schickt uns eine E-Mail an info@findmyfriend.at \nWenn wir für einen Hund die Verantwortung übernehmen\, beinhaltet das\, dass wir ihm helfen sollten\, sich in dieser Welt zurecht zu finden\, wir müssen ihm helfen\, sich an Situationen anzupassen. Ein Anpassungsprozess bedeutet zwangsläufig angenehme und unangenehme Situationen zu durchleben\, und in diesem Rahmen spaltet sich die Welt der Hundehalter bisweilen in die\, die mit positiver Verstärkung und Belohnungen arbeiten und in das Lager der Hundehalter\, die der Meinung sind\, Hundeerziehung funktioniert nur\, wenn man „hart durchgreift“. Die Welt der Hundeerziehung ist jedoch nicht schwarz oder weiß sondern gehört zusammen und ergänzt sich. \nGerade für Hunde sind Belohnungen und Bestrafungen aber nicht immer klar erkennbar. Es lassen sich etliche menschliche Verhaltensweisen beschreiben\, die bestrafend gedacht sind\, den Hund aber tatsächlich eher belohnen. Mit menschlich gefühlter Belohnung verhält es sich nicht anders. Sie kann auch bestrafend empfunden werden. \nKönnte es sogar so sein\, dass Hunde durch falsche und ungeschickte Belohnungen auf die „schiefe“ Bahn geraten? Und umgekehrt\, dass falsche und ungeschickte Bestrafungen das leidliche Verhalten von Hunden tragischerweise eher belohnen? \nSinn und Unsinn der unterschiedlichen Möglichkeiten werden hier besprochen sowie ein sinnvoller Umgang mit Maßnahmen erläutert.
URL:https://at.findmyfriend.at/event/seminar-mit-michael-grewe-tag-2/
LOCATION:Klagenfurt am Wörthersee\, Klagenfurt am Wörthersee\, 9020\, Austria
ATTACH;FMTTYPE=image/jpeg:https://at.findmyfriend.at/wp-content/uploads/2024/08/Grewe_PHOTO-2024-04-22-08-50-49-e1723456466334.jpg
END:VEVENT
BEGIN:VEVENT
DTSTART;TZID=Europe/Vienna:20250208T100000
DTEND;TZID=Europe/Vienna:20250208T170000
DTSTAMP:20260420T163544
CREATED:20241211T190904Z
LAST-MODIFIED:20241211T200312Z
UID:2612-1739008800-1739034000@at.findmyfriend.at
SUMMARY:Seminar mit Michael Grewe - Tag 1
DESCRIPTION:2-Tages-Seminar – inkl. am 3. Tag „Sprich mit Michael Grewe“ \nTag 1 (Samstag\, 08.02.2025\, 10–17 Uhr)  \nSpiel-\, Jagd- und Aggressionsverhalten \nPreis: 160 € (Kombiangebot Tag 1 und 2 – 300 €) \nAnmeldung erforderlich! Bitte schickt uns eine an info@findmyfriend.at \nWillkommen in der faszinierenden Dreiecksbeziehung „Spiel-\, Jagd- und Aggressionsverhalten“. In dieser Veranstaltung geht es darum den Blick der Teilnehmer:innen für die lineare Entwicklung von Verhalten zu schärfen. Welche grundlegenden Fehler kann ich in der frühen Entwicklung von Hunden vermeiden\, um gut angepasste erwachsene Hunde zu erhalten? Aus welchen Perspektiven sollte man das komplexe Spielverhalten von Hunden betrachten? Wann wird interveniert\, wann aber auch nicht? Welche Rolle spielt Genetik dabei? Gibt es Rezepte? Wo bleibt das Gefühl?\n… und sollte das Kind bereits in den Brunnen gefallen sein\, der erwachsene Hund im Jagd- und Aggressionsbereich als problematisch empfunden werden\, kommen weitere Fragen hinzu … Ist tatsächlich das Hundeverhalten oder die Erwartung der Halter:innen an ihren Hund das Problem? Wie kann ein Managementprogramm für problematische\, erwachsene Hunde im Bereich von übersteigertem Jagdverhalten und/oder unangepasstem Aggressionsverhalten aussehen?\nWährend wir uns beim Thema Welpenentwicklung mit grundsätzlichen Fragen und Inhalten beschäftigen\, klären wir im Bereich der problematischen Hunde gezielt Einzelfälle.
URL:https://at.findmyfriend.at/event/seminar-mit-michael-grewe/
LOCATION:Klagenfurt am Wörthersee\, Klagenfurt am Wörthersee\, 9020\, Austria
ATTACH;FMTTYPE=image/jpeg:https://at.findmyfriend.at/wp-content/uploads/2024/08/Grewe_PHOTO-2024-04-22-08-50-49-e1723456466334.jpg
END:VEVENT
BEGIN:VEVENT
DTSTART;TZID=Europe/Vienna:20250201T090000
DTEND;TZID=Europe/Vienna:20250201T170000
DTSTAMP:20260420T163544
CREATED:20240809T182324Z
LAST-MODIFIED:20250129T080226Z
UID:2034-1738400400-1738429200@at.findmyfriend.at
SUMMARY:Spezialtrailtag Indoor
DESCRIPTION:INDOOR TRAIL EVENT \nWir dürfen euch herzlich zu unserem FMF-Indoor Trailevent einladen\, der Ort ist eine Überraschung und wird zeitnah bekannt gegeben! \nVormittag ca. 9.00–12.00 UhrNachmittag ca. 14.00–17.00 Uhr \nBegrenzte Platzanzahl\, first come first serve \nPreis: € 65\,-/Trail für Mitglieder; € 75\,–/Trail für Nichtmitglieder \nTrainer: Lisi\, Martina \nAnmeldungen bitte per E-Mail an info@findmyfriend.at \nLeicht fortgeschrittene Trailerfahrung erforderlich (im Zweifelsfall bitte mit dem Trainer absprechen)
URL:https://at.findmyfriend.at/event/spezialtrailtag-indoor/
ATTACH;FMTTYPE=image/jpeg:https://at.findmyfriend.at/wp-content/uploads/2024/08/Indoor.jpg
END:VEVENT
BEGIN:VEVENT
DTSTART;VALUE=DATE:20241117
DTEND;VALUE=DATE:20241118
DTSTAMP:20260420T163544
CREATED:20240811T121252Z
LAST-MODIFIED:20240813T064333Z
UID:2057-1731801600-1731887999@at.findmyfriend.at
SUMMARY:Natur- und Tierschutztage
DESCRIPTION:Natur- und Tierschutztage im Lakeside Park:  ganzer Tag „Messe“ im Foyer Lakeside Park – Verschiedene Aussteller zu den Themenbereichen Haustiere\, Wildtiere\, Nutztiere und Umweltschutz.
URL:https://at.findmyfriend.at/event/natur-und-tierschutztage-2/
ATTACH;FMTTYPE=image/jpeg:https://at.findmyfriend.at/wp-content/uploads/2024/08/naturschutztag-e1723528614178.jpg
END:VEVENT
BEGIN:VEVENT
DTSTART;TZID=Europe/Vienna:20241026T090000
DTEND;TZID=Europe/Vienna:20241026T120000
DTSTAMP:20260420T163544
CREATED:20240809T181912Z
LAST-MODIFIED:20240814T091736Z
UID:2030-1729933200-1729944000@at.findmyfriend.at
SUMMARY:Einsatzhelferschulung
DESCRIPTION:Die Schulung ist die Ausbildung zum Tiersuch-Berater und ihr erfahrt alles über Einsatztaktik! Für diejenigen von euch\, die gerne in die Tiersuche möchten also der erste verpflichtende Schritt! Diese Schulung ist übrigens nicht nur für Hundebesitzer und Trailer interessant\, es gibt für jeden der helfen möchte\, die Möglichkeit uns tatkräftig zu unterstützen. Dauer: Einzuplanen sind ca. 3 Stunden Die Schulung ist kostenlos! \nAnmeldungen hier oder mit dem Anmeldeformular
URL:https://at.findmyfriend.at/event/einsatzhelferschulung/
LOCATION:Klagenfurt am Wörthersee\, Klagenfurt am Wörthersee\, 9020\, Austria
ATTACH;FMTTYPE=image/jpeg:https://at.findmyfriend.at/wp-content/uploads/2024/08/Einsatzhelferschulung-2-e1723231455560.jpg
END:VEVENT
BEGIN:VEVENT
DTSTART;TZID=Europe/Vienna:20240913T140000
DTEND;TZID=Europe/Vienna:20240913T170000
DTSTAMP:20260420T163544
CREATED:20240809T175521Z
LAST-MODIFIED:20240814T091618Z
UID:2012-1726236000-1726246800@at.findmyfriend.at
SUMMARY:Workshop Kreuzungsarbeit
DESCRIPTION:Du verfügst bereits über ein wenig Trailerfahrung mit deinem Hund und möchtest gerne den nächsten Schritt zu mehr Verständnis in der Zusammenarbeit zwischen euch machen? Irgendwie klappt das mit dem Erkennen in den Richtungsentscheidungen und der Körpersprache deines Hundes noch nicht so gut wie du dir das wünscht?\nDann ist das FmF Kreuzungsseminar definitiv etwas für euch!\nIn einem Seminar erarbeiten wir gemeinsam Fortschritte in der Teamarbeit und dem „Lesen“ deines Hundes! \nPreis: € 65\,- für Mitglieder\, € 75\,- für Nicht-Mitglieder \nAnmeldungen hier mit dem Anmeldeformular.
URL:https://at.findmyfriend.at/event/workshop-kreuzungsarbeit/
LOCATION:Klagenfurt am Wörthersee\, Klagenfurt am Wörthersee\, 9020\, Austria
ATTACH;FMTTYPE=image/png:https://at.findmyfriend.at/wp-content/uploads/2024/08/Kreuzungsarbeit-e1723233273270.png
END:VEVENT
BEGIN:VEVENT
DTSTART;TZID=Europe/Vienna:20240907T090000
DTEND;TZID=Europe/Vienna:20240907T130000
DTSTAMP:20260420T163544
CREATED:20240809T175231Z
LAST-MODIFIED:20240813T063731Z
UID:2008-1725699600-1725714000@at.findmyfriend.at
SUMMARY:3. Klagenfurter Tierschutztag
DESCRIPTION:3. Klagenfurter Tierschutztag am Neuen Platz
URL:https://at.findmyfriend.at/event/3-klagenfurter-tierschutztag/
LOCATION:Klagenfurt am Wörthersee\, Klagenfurt am Wörthersee\, 9020\, Austria
ATTACH;FMTTYPE=image/jpeg:https://at.findmyfriend.at/wp-content/uploads/2024/08/Tierschutztag_PHOTO-2023-03-23-17-41-27-e1723480620730.jpg
END:VEVENT
BEGIN:VEVENT
DTSTART;TZID=Europe/Vienna:20240824T093000
DTEND;TZID=Europe/Vienna:20240824T110000
DTSTAMP:20260420T163544
CREATED:20240809T170100Z
LAST-MODIFIED:20240813T063632Z
UID:1957-1724491800-1724497200@at.findmyfriend.at
SUMMARY:Tiko Hundelauf im Rahmen von Kärnten Läuft
DESCRIPTION:Messe ab 8:30 Uhr. \nAuch heuer lockt Kärnten Läuft wieder an den türkisblauen Wörthersee und bereits zum 23. Mal setzt das Organisationsteam auf die Zusammensetzung von sportlichen Spitzenleistungen\, Laufurlaub und Familienerlebnis.
URL:https://at.findmyfriend.at/event/tiko-hundelauf-im-rahmen-von-kaernten-laeuft/
ATTACH;FMTTYPE=image/jpeg:https://at.findmyfriend.at/wp-content/uploads/2024/08/TikoLauf_PHOTO-2022-09-05-11-05-03-e1723231328633.jpg
END:VEVENT
BEGIN:VEVENT
DTSTART;TZID=Europe/Vienna:20240823T120000
DTEND;TZID=Europe/Vienna:20240823T140000
DTSTAMP:20260420T163544
CREATED:20240809T170726Z
LAST-MODIFIED:20240813T063409Z
UID:1929-1724414400-1724421600@at.findmyfriend.at
SUMMARY:Einsatzhelfertreffen
DESCRIPTION:Ab 12:00 Uhr
URL:https://at.findmyfriend.at/event/einsatzhelfertreffen/
LOCATION:Klagenfurt am Wörthersee\, Klagenfurt am Wörthersee\, 9020\, Austria
ATTACH;FMTTYPE=image/jpeg:https://at.findmyfriend.at/wp-content/uploads/2024/08/Einsatzleiter_IMG-20230423-WA0229-1-e1723234731499.jpg
END:VEVENT
END:VCALENDAR