BEGIN:VCALENDAR
VERSION:2.0
PRODID:-//Find My Friend Suchhunde - ECPv6.6.1//NONSGML v1.0//EN
CALSCALE:GREGORIAN
METHOD:PUBLISH
X-WR-CALNAME:Find My Friend Suchhunde
X-ORIGINAL-URL:https://at.findmyfriend.at
X-WR-CALDESC:Veranstaltungen für Find My Friend Suchhunde
REFRESH-INTERVAL;VALUE=DURATION:PT1H
X-Robots-Tag:noindex
X-PUBLISHED-TTL:PT1H
BEGIN:VTIMEZONE
TZID:Europe/Vienna
BEGIN:DAYLIGHT
TZOFFSETFROM:+0100
TZOFFSETTO:+0200
TZNAME:CEST
DTSTART:20250330T010000
END:DAYLIGHT
BEGIN:STANDARD
TZOFFSETFROM:+0200
TZOFFSETTO:+0100
TZNAME:CET
DTSTART:20251026T010000
END:STANDARD
END:VTIMEZONE
BEGIN:VEVENT
DTSTART;TZID=Europe/Vienna:20250301T080000
DTEND;TZID=Europe/Vienna:20250301T170000
DTSTAMP:20260423T160600
CREATED:20240809T181548Z
LAST-MODIFIED:20250129T123518Z
UID:2026-1740816000-1740848400@at.findmyfriend.at
SUMMARY:Prüfungstag
DESCRIPTION:Lust auf Prüfungen? Hast du Lust deine Fortschritte zu überprüfen? Bei uns kannst du dich und deinen Hund nach einem fundierten Prüfungssystem bis zur Einsatzfähigkeit ausbilden. \nPrüfungsordnung \nPrüfungstabelle \nAnmeldeformular
URL:https://at.findmyfriend.at/event/pruefungstag/
LOCATION:Klagenfurt am Wörthersee\, Klagenfurt am Wörthersee\, 9020\, Austria
ATTACH;FMTTYPE=image/jpeg:https://at.findmyfriend.at/wp-content/uploads/2024/08/Pruefungen-e1723234067988.jpg
END:VEVENT
BEGIN:VEVENT
DTSTART;TZID=Europe/Vienna:20250315T100000
DTEND;TZID=Europe/Vienna:20250315T140000
DTSTAMP:20260423T160600
CREATED:20240809T175713Z
LAST-MODIFIED:20250218T111256Z
UID:2014-1742032800-1742047200@at.findmyfriend.at
SUMMARY:Einsteigerworkshop Graz
DESCRIPTION:Du möchtest deinen Hund artgerecht auslasten\, zum Suchhund ausbilden oder einfach nur Spass miteinander haben? Unser Einsteigerworkshop ist der ideale Start dafür! \nInformationsfolder zum Download\nAnmeldeformular zum Download
URL:https://at.findmyfriend.at/event/einsteigerworkshop/
ATTACH;FMTTYPE=image/jpeg:https://at.findmyfriend.at/wp-content/uploads/2024/08/DSC4704-1-e1723480057129.jpg
END:VEVENT
END:VCALENDAR